BEGIN:VCALENDAR
VERSION:2.0
PRODID:-//Via.One//Command Center//EN
CALSCALE:GREGORIAN
METHOD:PUBLISH
X-WR-CALNAME:Via.One Command Center
X-WR-TIMEZONE:America/New_York
X-WR-CALDESC:Tasks and meetings from Via.One Command Center
BEGIN:VTIMEZONE
TZID:America/New_York
BEGIN:STANDARD
DTSTART:19701101T020000
RRULE:FREQ=YEARLY;BYMONTH=11;BYDAY=1SU
TZNAME:EST
TZOFFSETFROM:-0400
TZOFFSETTO:-0500
END:STANDARD
BEGIN:DAYLIGHT
DTSTART:19700308T020000
RRULE:FREQ=YEARLY;BYMONTH=3;BYDAY=2SU
TZNAME:EDT
TZOFFSETFROM:-0500
TZOFFSETTO:-0400
END:DAYLIGHT
END:VTIMEZONE
BEGIN:VEVENT
UID:viaone-task-16@viaone-command
DTSTAMP:20260422T213004Z
DTSTART;VALUE=DATE:20260407
DTEND;VALUE=DATE:20260408
SUMMARY:🟡 [Relier Group] Esim card sales → DT One (DT1)
DESCRIPTION:Task #16 from Via.One Command Center\nEntity: Relier Group\nPriority: MED\n\nNotes: Ask Sofia for current rates...\n\nView: https://viaone-command-production.up.railway.app
STATUS:CONFIRMED
PRIORITY:5
CATEGORIES:RELIER GROUP
END:VEVENT
BEGIN:VEVENT
UID:viaone-task-2@viaone-command
DTSTAMP:20260422T213004Z
DTSTART;VALUE=DATE:20260407
DTEND;VALUE=DATE:20260408
SUMMARY:🔴 [Personal] Jerry Hunt → Mazda charging cable
DESCRIPTION:Task #2 from Via.One Command Center\nEntity: Personal\nPriority: HIGH\n\nView: https://viaone-command-production.up.railway.app
STATUS:COMPLETED
PRIORITY:1
CATEGORIES:PERSONAL
END:VEVENT
BEGIN:VEVENT
UID:viaone-task-35@viaone-command
DTSTAMP:20260422T213004Z
DTSTART;VALUE=DATE:20260407
DTEND;VALUE=DATE:20260408
SUMMARY:🔴 [Flat Mountain] Investigate why Miro cannot connect to DigitalOcean
DESCRIPTION:Task #35 from Via.One Command Center\nEntity: Flat Mountain\nPriority: HIGH\n\nNotes: I asked Miro in a WhatsApp message @4:02pm today April 6th.\n\nView: https://viaone-command-production.up.railway.app
STATUS:CONFIRMED
PRIORITY:1
CATEGORIES:FLAT MOUNTAIN
END:VEVENT
BEGIN:VEVENT
UID:viaone-task-43@viaone-command
DTSTAMP:20260422T213004Z
DTSTART;VALUE=DATE:20260409
DTEND;VALUE=DATE:20260410
SUMMARY:🟡 [RISE Finance] Prepare Q2 and Q3 plans for Rise Wallet
DESCRIPTION:Task #43 from Via.One Command Center\nEntity: RISE Finance\nPriority: MED\n\nNotes: Created via WhatsApp voice: "Please prepare tomorrow\, Q2 and Q3 for Rise Wallet\, what we are going to do."\n\nView: https://viaone-command-production.up.railway.app
STATUS:COMPLETED
PRIORITY:5
CATEGORIES:RISE FINANCE
END:VEVENT
BEGIN:VEVENT
UID:viaone-task-23@viaone-command
DTSTAMP:20260422T213004Z
DTSTART;VALUE=DATE:20260409
DTEND;VALUE=DATE:20260410
SUMMARY:🔴 [Via.One] Siprocal A/B test — marketing owns — READY BY THURSDAY
DESCRIPTION:Task #23 from Via.One Command Center\nEntity: Via.One\nPriority: HIGH\nAssignee: Marketing\n\nView: https://viaone-command-production.up.railway.app
STATUS:COMPLETED
PRIORITY:1
CATEGORIES:VIA.ONE
END:VEVENT
BEGIN:VEVENT
UID:viaone-task-24@viaone-command
DTSTAMP:20260422T213004Z
DTSTART;VALUE=DATE:20260410
DTEND;VALUE=DATE:20260411
SUMMARY:🔴 [Via.One] Call Daniel Polonsky — V1 commission contract (Guatemala)
DESCRIPTION:Task #24 from Via.One Command Center\nEntity: Via.One\nPriority: HIGH\n\nView: https://viaone-command-production.up.railway.app
STATUS:CONFIRMED
PRIORITY:1
CATEGORIES:VIA.ONE
END:VEVENT
BEGIN:VEVENT
UID:viaone-task-42@viaone-command
DTSTAMP:20260422T213004Z
DTSTART;TZID=America/New_York:20260413T130000
DTEND;TZID=America/New_York:20260413T140000
SUMMARY:🟡 [Personal] Call Michael Burstein
DESCRIPTION:Task #42 from Via.One Command Center\nEntity: Personal\nPriority: MED\n\nNotes: Created via WhatsApp voice: "Make an event for calling Michael Burstein on Friday at 2 p.m. Eastern."\n\nView: https://viaone-command-production.up.railway.app
STATUS:COMPLETED
PRIORITY:5
CATEGORIES:PERSONAL
BEGIN:VALARM
ACTION:DISPLAY
DESCRIPTION:Reminder: Call Michael Burstein
TRIGGER:-PT15M
END:VALARM
END:VEVENT
BEGIN:VEVENT
UID:viaone-task-44@viaone-command
DTSTAMP:20260422T213004Z
DTSTART;VALUE=DATE:20260414
DTEND;VALUE=DATE:20260415
SUMMARY:🔴 [Via.One] KYB Via one for Marcela
DESCRIPTION:Task #44 from Via.One Command Center\nEntity: Via.One\nPriority: HIGH\n\nView: https://viaone-command-production.up.railway.app
STATUS:CONFIRMED
PRIORITY:1
CATEGORIES:VIA.ONE
END:VEVENT
BEGIN:VEVENT
UID:viaone-task-20@viaone-command
DTSTAMP:20260422T213004Z
DTSTART;VALUE=DATE:20260414
DTEND;VALUE=DATE:20260415
SUMMARY:🔴 [Via.One] Follow up: Juan Salas
DESCRIPTION:Task #20 from Via.One Command Center\nEntity: Via.One\nPriority: HIGH\n\nView: https://viaone-command-production.up.railway.app
STATUS:COMPLETED
PRIORITY:1
CATEGORIES:VIA.ONE
END:VEVENT
BEGIN:VEVENT
UID:viaone-task-45@viaone-command
DTSTAMP:20260422T213004Z
DTSTART;VALUE=DATE:20260420
DTEND;VALUE=DATE:20260421
SUMMARY:🟡 [Personal] Call Colm Wyrnn
DESCRIPTION:Task #45 from Via.One Command Center\nEntity: Personal\nPriority: MED\n\nView: https://viaone-command-production.up.railway.app
STATUS:COMPLETED
PRIORITY:5
CATEGORIES:PERSONAL
END:VEVENT
BEGIN:VEVENT
UID:viaone-task-14@viaone-command
DTSTAMP:20260422T213004Z
DTSTART;VALUE=DATE:20260420
DTEND;VALUE=DATE:20260421
SUMMARY:🔴 [Relier Group] Have Javier reach out to Mario (LATCOM MUWE) for Relier customers
DESCRIPTION:Task #14 from Via.One Command Center\nEntity: Relier Group\nPriority: HIGH\nAssignee: Javier\n\nView: https://viaone-command-production.up.railway.app
STATUS:COMPLETED
PRIORITY:1
CATEGORIES:RELIER GROUP
END:VEVENT
BEGIN:VEVENT
UID:viaone-task-17@viaone-command
DTSTAMP:20260422T213004Z
DTSTART;VALUE=DATE:20260421
DTEND;VALUE=DATE:20260422
SUMMARY:🟡 [Relier Group] Irwin MVNO contract
DESCRIPTION:Task #17 from Via.One Command Center\nEntity: Relier Group\nPriority: MED\n\nNotes: Spoke to Carlos\, he said they were to sign. @Javier nudged them to sign and pay.\n\nView: https://viaone-command-production.up.railway.app
STATUS:CONFIRMED
PRIORITY:5
CATEGORIES:RELIER GROUP
END:VEVENT
BEGIN:VEVENT
UID:viaone-task-46@viaone-command
DTSTAMP:20260422T213004Z
DTSTART;VALUE=DATE:20260422
DTEND;VALUE=DATE:20260423
SUMMARY:🟡 [Relier Group] Taecel Creds
DESCRIPTION:Task #46 from Via.One Command Center\nEntity: Relier Group\nPriority: MED\n\nNotes: Same 403 on all endpoints. The credentials need activation or the account isn't funded/enabled yet.\n                                                                                                                                                                                              \n  The Taecel creds are valid but the account has no permissions yet. You need to contact Taecel to activate the API access:                                                                   \n  \n  - Email: cc@taecel.com                                                                                                                                                                      \n  - WhatsApp: 442 606 8821                                  \n  - Phone: 442 428 7315                                                                                                                                                                       \n                                                            \n  Tell them: "Tenemos las claves API pero al hacer cualquier request (getBalance\, getProducts) recibimos error 403 'no tiene permisos suficientes'. Necesitamos activación de la cuenta para  \n  recargas y pago de servicios."                            \n                                                                                                                                                                                              \n  For renewing keys when the 30-day expiry hits — same contacts above. They'll regenerate a new KEY + NIP pair. We just update the two Railway env vars when that happens.\n\nView: https://viaone-command-production.up.railway.app
STATUS:CONFIRMED
PRIORITY:5
CATEGORIES:RELIER GROUP
END:VEVENT
BEGIN:VEVENT
UID:viaone-task-4@viaone-command
DTSTAMP:20260422T213004Z
DTSTART;VALUE=DATE:20260424
DTEND;VALUE=DATE:20260425
SUMMARY:🟡 [Personal] Submit tax info → ECTON LAW Group
DESCRIPTION:Task #4 from Via.One Command Center\nEntity: Personal\nPriority: MED\n\nView: https://viaone-command-production.up.railway.app
STATUS:CONFIRMED
PRIORITY:5
CATEGORIES:PERSONAL
END:VEVENT
END:VCALENDAR